BEGIN:VCALENDAR
VERSION:2.0
PRODID:-//Greater Ann Arbor Quilt Guild - ECPv6.15.20//NONSGML v1.0//EN
CALSCALE:GREGORIAN
METHOD:PUBLISH
X-ORIGINAL-URL:https://www.gaaqg.com
X-WR-CALDESC:Events for Greater Ann Arbor Quilt Guild
REFRESH-INTERVAL;VALUE=DURATION:PT1H
X-Robots-Tag:noindex
X-PUBLISHED-TTL:PT1H
BEGIN:VTIMEZONE
TZID:America/New_York
BEGIN:DAYLIGHT
TZOFFSETFROM:-0500
TZOFFSETTO:-0400
TZNAME:EDT
DTSTART:20250309T070000
END:DAYLIGHT
BEGIN:STANDARD
TZOFFSETFROM:-0400
TZOFFSETTO:-0500
TZNAME:EST
DTSTART:20251102T060000
END:STANDARD
BEGIN:DAYLIGHT
TZOFFSETFROM:-0500
TZOFFSETTO:-0400
TZNAME:EDT
DTSTART:20260308T070000
END:DAYLIGHT
BEGIN:STANDARD
TZOFFSETFROM:-0400
TZOFFSETTO:-0500
TZNAME:EST
DTSTART:20261101T060000
END:STANDARD
BEGIN:DAYLIGHT
TZOFFSETFROM:-0500
TZOFFSETTO:-0400
TZNAME:EDT
DTSTART:20270314T070000
END:DAYLIGHT
BEGIN:STANDARD
TZOFFSETFROM:-0400
TZOFFSETTO:-0500
TZNAME:EST
DTSTART:20271107T060000
END:STANDARD
END:VTIMEZONE
BEGIN:VEVENT
DTSTART;TZID=America/New_York:20260321T090000
DTEND;TZID=America/New_York:20260321T120000
DTSTAMP:20260419T143027
CREATED:20241119T144237Z
LAST-MODIFIED:20251116T221544Z
UID:29219-1774083600-1774094400@www.gaaqg.com
SUMMARY:Quilt Day Lecture: Jane Sassaman - Quilting Against the Odds
DESCRIPTION:Jane’s visual lecture is about accomplishing your work in spite of obstacles – family life\, space limitations\, etc. It is a pep talk and slide show which covers Jane’s inspirations and her obstacles. She encourages people to do “what you have to do” by using herself and other artists as examples. \nFind out more on our workshop page: www.gaaqg.com/workshops/#mar-2026
URL:https://www.gaaqg.com/event/mar-2026/
LOCATION:Washtenaw Community College and via Zoom\, 4800 E. Huron River Drive\, Ann Arbor\, MI\, 48105
CATEGORIES:Quilt Day
END:VEVENT
END:VCALENDAR